BEGIN:VCALENDAR
VERSION:2.0
PRODID:-//ALERT Cadet - ECPv6.15.20//NONSGML v1.0//EN
CALSCALE:GREGORIAN
METHOD:PUBLISH
X-WR-CALNAME:ALERT Cadet
X-ORIGINAL-URL:https://alertcadet.org
X-WR-CALDESC:Events for ALERT Cadet
REFRESH-INTERVAL;VALUE=DURATION:PT1H
X-Robots-Tag:noindex
X-PUBLISHED-TTL:PT1H
BEGIN:VTIMEZONE
TZID:America/Chicago
BEGIN:DAYLIGHT
TZOFFSETFROM:-0600
TZOFFSETTO:-0500
TZNAME:CDT
DTSTART:20230312T080000
END:DAYLIGHT
BEGIN:STANDARD
TZOFFSETFROM:-0500
TZOFFSETTO:-0600
TZNAME:CST
DTSTART:20231105T070000
END:STANDARD
BEGIN:DAYLIGHT
TZOFFSETFROM:-0600
TZOFFSETTO:-0500
TZNAME:CDT
DTSTART:20240310T080000
END:DAYLIGHT
BEGIN:STANDARD
TZOFFSETFROM:-0500
TZOFFSETTO:-0600
TZNAME:CST
DTSTART:20241103T070000
END:STANDARD
BEGIN:DAYLIGHT
TZOFFSETFROM:-0600
TZOFFSETTO:-0500
TZNAME:CDT
DTSTART:20250309T080000
END:DAYLIGHT
BEGIN:STANDARD
TZOFFSETFROM:-0500
TZOFFSETTO:-0600
TZNAME:CST
DTSTART:20251102T070000
END:STANDARD
END:VTIMEZONE
BEGIN:VEVENT
DTSTART;TZID=America/Chicago:20240502T173000
DTEND;TZID=America/Chicago:20240504T163000
DTSTAMP:20260422T210413
CREATED:20240101T174436Z
LAST-MODIFIED:20240122T174211Z
UID:18596-1714671000-1714840200@alertcadet.org
SUMMARY:2024 South Central Father/Son Home Repair Camp
DESCRIPTION:This is a brand new camp where fathers and sons will learn the basics of home repair…Continue Reading
URL:https://alertcadet.org/event/2024-south-central-father-son-home-repair-camp/
LOCATION:Big Sandy\, Texas\, One Academy Blvd\, Big Sandy\, TX\, 75755\, United States
CATEGORIES:Father/Son Camps
ATTACH;FMTTYPE=image/jpeg:https://alertcadet.org/wp-content/uploads/2022/04/IMG_0527-scaled.jpg
END:VEVENT
BEGIN:VEVENT
DTSTART;TZID=America/Chicago:20240523T160000
DTEND;TZID=America/Chicago:20240526T160000
DTSTAMP:20260422T210413
CREATED:20231215T152353Z
LAST-MODIFIED:20240110T012052Z
UID:18554-1716480000-1716739200@alertcadet.org
SUMMARY:Eastern Father/Son Service Camp North
DESCRIPTION:Our annual New England Father and Son Service Camp will again be held at Fairwood Bible Institute (fairwoodbible.org) in Dublin\, New Hampshire.. \nContinue reading
URL:https://alertcadet.org/event/eastern-father-son-service-camp-north/
LOCATION:Fairwood Bible Institute\, Dublin\, NH\, United States
CATEGORIES:Father/Son Camps
ATTACH;FMTTYPE=image/jpeg:https://alertcadet.org/wp-content/uploads/2022/06/IMG_0702-scaled.jpg
END:VEVENT
END:VCALENDAR