BEGIN:VCALENDAR
VERSION:2.0
PRODID:-//ALERT Cadet - ECPv6.15.20//NONSGML v1.0//EN
CALSCALE:GREGORIAN
METHOD:PUBLISH
X-ORIGINAL-URL:https://alertcadet.org
X-WR-CALDESC:Events for ALERT Cadet
REFRESH-INTERVAL;VALUE=DURATION:PT1H
X-Robots-Tag:noindex
X-PUBLISHED-TTL:PT1H
BEGIN:VTIMEZONE
TZID:America/Chicago
BEGIN:DAYLIGHT
TZOFFSETFROM:-0600
TZOFFSETTO:-0500
TZNAME:CDT
DTSTART:20230312T080000
END:DAYLIGHT
BEGIN:STANDARD
TZOFFSETFROM:-0500
TZOFFSETTO:-0600
TZNAME:CST
DTSTART:20231105T070000
END:STANDARD
BEGIN:DAYLIGHT
TZOFFSETFROM:-0600
TZOFFSETTO:-0500
TZNAME:CDT
DTSTART:20240310T080000
END:DAYLIGHT
BEGIN:STANDARD
TZOFFSETFROM:-0500
TZOFFSETTO:-0600
TZNAME:CST
DTSTART:20241103T070000
END:STANDARD
BEGIN:DAYLIGHT
TZOFFSETFROM:-0600
TZOFFSETTO:-0500
TZNAME:CDT
DTSTART:20250309T080000
END:DAYLIGHT
BEGIN:STANDARD
TZOFFSETFROM:-0500
TZOFFSETTO:-0600
TZNAME:CST
DTSTART:20251102T070000
END:STANDARD
END:VTIMEZONE
BEGIN:VEVENT
DTSTART;TZID=America/Chicago:20240418T160000
DTEND;TZID=America/Chicago:20240421T160000
DTSTAMP:20260422T231236
CREATED:20231215T163900Z
LAST-MODIFIED:20240110T012038Z
UID:18567-1713456000-1713715200@alertcadet.org
SUMMARY:Eastern Region Father/Son Service Camp South
DESCRIPTION:We are holding our third annual Father/Son Service Camp at Strath an De’ Farm (Scottish Gaelic for “God’s Valley”) (strathande.com) in Waynesburg\, PA… \nContinue Reading
URL:https://alertcadet.org/event/eastern-region-father-son-service-camp-south-2/
LOCATION:Strath an De Farm\, 145 Stewart Run Rd\, Waynesburg\, PA\, 15370\, United States
CATEGORIES:Father/Son Camps
ATTACH;FMTTYPE=image/jpeg:https://alertcadet.org/wp-content/uploads/2023/12/Eastern-F-S-South-blacksmithing.jpg
END:VEVENT
END:VCALENDAR