BEGIN:VCALENDAR
VERSION:2.0
PRODID:-//ALERT Cadet - ECPv6.15.20//NONSGML v1.0//EN
CALSCALE:GREGORIAN
METHOD:PUBLISH
X-ORIGINAL-URL:https://alertcadet.org
X-WR-CALDESC:Events for ALERT Cadet
REFRESH-INTERVAL;VALUE=DURATION:PT1H
X-Robots-Tag:noindex
X-PUBLISHED-TTL:PT1H
BEGIN:VTIMEZONE
TZID:America/Chicago
BEGIN:DAYLIGHT
TZOFFSETFROM:-0600
TZOFFSETTO:-0500
TZNAME:CDT
DTSTART:20220313T080000
END:DAYLIGHT
BEGIN:STANDARD
TZOFFSETFROM:-0500
TZOFFSETTO:-0600
TZNAME:CST
DTSTART:20221106T070000
END:STANDARD
BEGIN:DAYLIGHT
TZOFFSETFROM:-0600
TZOFFSETTO:-0500
TZNAME:CDT
DTSTART:20230312T080000
END:DAYLIGHT
BEGIN:STANDARD
TZOFFSETFROM:-0500
TZOFFSETTO:-0600
TZNAME:CST
DTSTART:20231105T070000
END:STANDARD
BEGIN:DAYLIGHT
TZOFFSETFROM:-0600
TZOFFSETTO:-0500
TZNAME:CDT
DTSTART:20240310T080000
END:DAYLIGHT
BEGIN:STANDARD
TZOFFSETFROM:-0500
TZOFFSETTO:-0600
TZNAME:CST
DTSTART:20241103T070000
END:STANDARD
END:VTIMEZONE
BEGIN:VEVENT
DTSTART;TZID=America/Chicago:20231023T143000
DTEND;TZID=America/Chicago:20231028T143000
DTSTAMP:20260423T131436
CREATED:20221121T194632Z
LAST-MODIFIED:20230731T200205Z
UID:18042-1698071400-1698503400@alertcadet.org
SUMMARY:South Central LTC Camp
DESCRIPTION:The October 23-28 South Central Region LTC Camp will be held at the International ALERT Academy campus in Big Sandy\, TX (alertacademy.com) with cadre reporting on Saturday\, October 21st.  Fathers and LTCs are expected to be set up and settled in by 1400 hours on Monday.  Camp ends Saturday around noon. \nEach activity is designed to develop the spiritual\, mental\, emotional\, and physical parts of your being as you acquire or advance skills in situational awareness\, Personal Emergency Preparedness\, including the assembly of a disaster supplies kit\, and wilderness survival\, consisting of fire building and starting\, open-fire cooking\, shelter building\, water collection and purification\, weather forecasting\, primitive navigation\, distress signaling\, food gathering\, and natural medicine. \nLTC members: You will be tested to think\, communicate\, and act under pressure.  You will refine your ability to calmly and efficiently collect facts\, discern outcomes\, evaluate risk\, make decisions\, develop plans\, communicate with and lead a team\, re-evaluate decisions\, make course corrections\, clean up your mistakes\, process criticism\, and debrief in order to thoroughly learn from your experiences.  You will take home a greater appreciation that team success depends on the success of each member. \nDads: You are going to partner with your sons in order to observe\, protect\, evaluate\, advise\, and enjoy them.  You will instruct\, re-enforce progress\, and learn new things about some skills and about your sons.  Come prepared to see your sons challenged and stretched; then take home refined parenting skills that will benefit all your children as you disciple them in critical thinking and other skills. You dads hold the positions of greatest influence as you collaborate directly with your sons to integrate the purpose of each devotion\, teaching\, training\, briefing\, scenario\, and debriefing. \nSuccessful completion of the camp earns both the LTC Camp Participation Award and the new Emergency Survival Training Award.  As with other ALERT Cadet camps\, dads must participate with their sons.   Note that this is tent camping with showers and all mealtime food being supplied. The packing list will require neither a multi-day backpack nor any special uniform items.  To seek a scholarship contact Lt. Col. Doug Dagarin at dougdagarin@gmail.com prior to registration.
URL:https://alertcadet.org/event/south-central-ltc-camp-2/
LOCATION:Big Sandy\, Texas\, One Academy Blvd\, Big Sandy\, TX\, 75755\, United States
ATTACH;FMTTYPE=image/jpeg:https://alertcadet.org/wp-content/uploads/2022/04/20210917_155550-rotated.jpg
END:VEVENT
END:VCALENDAR