BEGIN:VCALENDAR
VERSION:2.0
PRODID:-//ALERT Cadet - ECPv6.15.20//NONSGML v1.0//EN
CALSCALE:GREGORIAN
METHOD:PUBLISH
X-WR-CALNAME:ALERT Cadet
X-ORIGINAL-URL:https://alertcadet.org
X-WR-CALDESC:Events for ALERT Cadet
REFRESH-INTERVAL;VALUE=DURATION:PT1H
X-Robots-Tag:noindex
X-PUBLISHED-TTL:PT1H
BEGIN:VTIMEZONE
TZID:America/Chicago
BEGIN:DAYLIGHT
TZOFFSETFROM:-0600
TZOFFSETTO:-0500
TZNAME:CDT
DTSTART:20210314T080000
END:DAYLIGHT
BEGIN:STANDARD
TZOFFSETFROM:-0500
TZOFFSETTO:-0600
TZNAME:CST
DTSTART:20211107T070000
END:STANDARD
BEGIN:DAYLIGHT
TZOFFSETFROM:-0600
TZOFFSETTO:-0500
TZNAME:CDT
DTSTART:20220313T080000
END:DAYLIGHT
BEGIN:STANDARD
TZOFFSETFROM:-0500
TZOFFSETTO:-0600
TZNAME:CST
DTSTART:20221106T070000
END:STANDARD
BEGIN:DAYLIGHT
TZOFFSETFROM:-0600
TZOFFSETTO:-0500
TZNAME:CDT
DTSTART:20230312T080000
END:DAYLIGHT
BEGIN:STANDARD
TZOFFSETFROM:-0500
TZOFFSETTO:-0600
TZNAME:CST
DTSTART:20231105T070000
END:STANDARD
END:VTIMEZONE
BEGIN:VEVENT
DTSTART;TZID=America/Chicago:20221103T120000
DTEND;TZID=America/Chicago:20221106T120000
DTSTAMP:20260424T081142
CREATED:20211117T204934Z
LAST-MODIFIED:20221006T180323Z
UID:16170-1667476800-1667736000@alertcadet.org
SUMMARY:2022 South Central Father/Son Camp II
DESCRIPTION:THURSDAY-SUNDAY\, NOVEMBER 3-6\, 2022 \n\nPrimitive campground setting for tents or pop-up campers at Big Sandy Headquarters\nArrival time between 10 AM – 4 PM Thursday\, November 3 to set up camp\nCamp adjourns Sunday before noon\nService Project on campus Friday morning\, Friday afternoon and Sat morning – hours spent on the service project  can be used towards a Personal Service or Unit Service Award\nSaturday afternoon open for father and son time with numerous activities available.\nCamp registration cost for Father/Son Service Camp – $35 per family unit\nThose attending camp earn a Father/Son Camp Award\nCome as a unit or as individual families\nBring your own food\, tents and sleeping gear\n\nFor those who find it difficult to sleep primitively\, Pine Lodge cabins with beds are available for $25 per night (sleeps 3). Tents can be set up alongside the cabins for sons if more than 3 per family.  Call for reservation: 903-636-9201\n\n\nEvening session of spiritual encouragement for fathers and sons before lights out\nCamp CO will be CMaj. Michael Smith
URL:https://alertcadet.org/event/south-central-father-son-camp-ii/
LOCATION:Big Sandy\, Texas\, One Academy Blvd\, Big Sandy\, TX\, 75755\, United States
CATEGORIES:Father/Son Camps
ATTACH;FMTTYPE=image/jpeg:https://alertcadet.org/wp-content/uploads/2021/11/hauling-pine-needles.jpg
END:VEVENT
END:VCALENDAR