BEGIN:VCALENDAR
VERSION:2.0
PRODID:-//ALERT Cadet - ECPv6.15.20//NONSGML v1.0//EN
CALSCALE:GREGORIAN
METHOD:PUBLISH
X-WR-CALNAME:ALERT Cadet
X-ORIGINAL-URL:https://alertcadet.org
X-WR-CALDESC:Events for ALERT Cadet
REFRESH-INTERVAL;VALUE=DURATION:PT1H
X-Robots-Tag:noindex
X-PUBLISHED-TTL:PT1H
BEGIN:VTIMEZONE
TZID:America/Chicago
BEGIN:DAYLIGHT
TZOFFSETFROM:-0600
TZOFFSETTO:-0500
TZNAME:CDT
DTSTART:20210314T080000
END:DAYLIGHT
BEGIN:STANDARD
TZOFFSETFROM:-0500
TZOFFSETTO:-0600
TZNAME:CST
DTSTART:20211107T070000
END:STANDARD
BEGIN:DAYLIGHT
TZOFFSETFROM:-0600
TZOFFSETTO:-0500
TZNAME:CDT
DTSTART:20220313T080000
END:DAYLIGHT
BEGIN:STANDARD
TZOFFSETFROM:-0500
TZOFFSETTO:-0600
TZNAME:CST
DTSTART:20221106T070000
END:STANDARD
BEGIN:DAYLIGHT
TZOFFSETFROM:-0600
TZOFFSETTO:-0500
TZNAME:CDT
DTSTART:20230312T080000
END:DAYLIGHT
BEGIN:STANDARD
TZOFFSETFROM:-0500
TZOFFSETTO:-0600
TZNAME:CST
DTSTART:20231105T070000
END:STANDARD
END:VTIMEZONE
BEGIN:VEVENT
DTSTART;TZID=America/Chicago:20220926T130000
DTEND;TZID=America/Chicago:20221001T130000
DTSTAMP:20260424T095358
CREATED:20211117T203149Z
LAST-MODIFIED:20220520T172626Z
UID:16158-1664197200-1664629200@alertcadet.org
SUMMARY:2022 South Central LTC Camp
DESCRIPTION:The September 26th through October 1st South Central Region LTC Camp will be held at the International ALERT Academy campus in Big Sandy\, TX (alertacademy.com) with cadre reporting on Sunday September 25th.  Camp starts at 1400 hours on Monday and ends with lunch on Saturday. \nEach activity is designed to develop the spiritual\, mental\, emotional\, and physical parts of your being as you acquire or advance skills in Personal Emergency Preparedness and outdoor survival consisting of survival kit contents\, shelter building\, fire starting\, cooking-fire building\, open-fire cooking\, distress signaling\, water collection and purification\, food gathering\, and weather forecasting.  Note that for part of the week you will bunk indoor and part of the week will require bivouacking.  You will take home a greater appreciation that team success depends on the success of each member. \nLTC members: You will be tested to think\, communicate\, and act under pressure.  You will refine your ability to calmly and efficiently collect facts\, discern outcomes\, evaluate risk\, make decisions\, develop plans\, communicate with and lead a team\, re-evaluate decisions\, make course corrections\, clean up your mistakes\, process criticism\, and debrief in order to thoroughly learn from your experiences. \nDads: You are going to partner with your sons in order to observe\, protect\, evaluate\, advise\, and enjoy them.  You will instruct\, re-enforce progress\, and learn new things about some skills and about your sons.  Come prepared to see your sons challenged and stretched; then take home refined parenting skills that will benefit all your children as you disciple them in critical thinking and other skills. You dads hold the positions of greatest influence as you collaborate directly with your sons to integrate the purpose of each devotion\, teaching\, training\, briefing\, scenario\, and debriefing. \nSuccessful completion of the camp earns both the LTC Camp Participation Award and the new Emergency Survival Training Award.  As with other ALERT Cadet camps\, dads must participate with their sons.  The fee is $450 (including a $35 non-refundable registration fee) for dad\, plus $95.00 for each son.  Note that showers and all mealtime food will be supplied and the packing list will require neither a multi-day backpack nor any special uniform items.  To seek a scholarship contact CLt. Col. Doug Dagarin at dougdagarin@gmail.com prior to registration.  Register before Dec 31\, 2021 and receive a 10% discount!
URL:https://alertcadet.org/event/south-central-region-ltc-camp/
LOCATION:Big Sandy\, Texas\, One Academy Blvd\, Big Sandy\, TX\, 75755\, United States
CATEGORIES:LTC Camps
ATTACH;FMTTYPE=image/jpeg:https://alertcadet.org/wp-content/uploads/2021/11/River-Crossing-set-up.jpg
END:VEVENT
END:VCALENDAR