BEGIN:VCALENDAR
VERSION:2.0
PRODID:-//ALERT Cadet - ECPv6.15.20//NONSGML v1.0//EN
CALSCALE:GREGORIAN
METHOD:PUBLISH
X-WR-CALNAME:ALERT Cadet
X-ORIGINAL-URL:https://alertcadet.org
X-WR-CALDESC:Events for ALERT Cadet
REFRESH-INTERVAL;VALUE=DURATION:PT1H
X-Robots-Tag:noindex
X-PUBLISHED-TTL:PT1H
BEGIN:VTIMEZONE
TZID:America/Chicago
BEGIN:DAYLIGHT
TZOFFSETFROM:-0600
TZOFFSETTO:-0500
TZNAME:CDT
DTSTART:20200308T080000
END:DAYLIGHT
BEGIN:STANDARD
TZOFFSETFROM:-0500
TZOFFSETTO:-0600
TZNAME:CST
DTSTART:20201101T070000
END:STANDARD
BEGIN:DAYLIGHT
TZOFFSETFROM:-0600
TZOFFSETTO:-0500
TZNAME:CDT
DTSTART:20210314T080000
END:DAYLIGHT
BEGIN:STANDARD
TZOFFSETFROM:-0500
TZOFFSETTO:-0600
TZNAME:CST
DTSTART:20211107T070000
END:STANDARD
BEGIN:DAYLIGHT
TZOFFSETFROM:-0600
TZOFFSETTO:-0500
TZNAME:CDT
DTSTART:20220313T080000
END:DAYLIGHT
BEGIN:STANDARD
TZOFFSETFROM:-0500
TZOFFSETTO:-0600
TZNAME:CST
DTSTART:20221106T070000
END:STANDARD
END:VTIMEZONE
BEGIN:VEVENT
DTSTART;VALUE=DATE:20210823
DTEND;VALUE=DATE:20210829
DTSTAMP:20260425T112634
CREATED:20210120T195344Z
LAST-MODIFIED:20210726T150455Z
UID:15399-1629676800-1630195199@alertcadet.org
SUMMARY:2021 Eastern LTC - Waynesburg\, Pennsylvania
DESCRIPTION:The August 23-28\, 2021\, Eastern Region LTC Camp will be held at Strath an De’ Farm (Scottish Gaelic for “God’s Valley”) belonging to Jim and Barbara Butler in Waynesburg\, PA\, with staff reporting for briefing on Sunday the 22nd. \nYou will be acquiring or advancing your skills in First Aid with CPR\, land search and recovery/rescue\, map reading and compass\, sawyer safety and use\, Incident Command System\, and walkie-talkie use\, protocol\, and care (which taken together satisfy all the requirements of the Crisis Response Training Award). More than ever you will appreciate that team success depends on the success of each member. \nLTC members: You will be tested to think\, communicate\, and act under pressure. You will refine your ability to calmly and efficiently collect facts\, discern outcomes\, evaluate risk\, make decisions\, develop plans\, re-evaluate decisions\, make course corrections\, clean up your mistakes\, process criticism\, and debrief in order to thoroughly learn from your experiences. \nDads: You are going to partner with your sons in order to observe\, protect\, evaluate\, advise\, and enjoy them. You will instruct\, re-enforce progress\, and learn new things about some skills and about your sons. Come prepared to see your sons challenged and stretched; and then take home refined parenting skills that will benefit all your children as you disciple them in critical thinking and other skills. You dads hold the positions of greatest influence as you collaborate directly with your sons to integrate the purpose of each devotion\, teaching\, training\, briefing\, scenario\, and debriefing. \nThis is tent camping. There are rustic showers\, and all mealtime food will be supplied. Note that the packing list (not yet posted) will require neither a multi-day backpack nor any special uniform or equipment purchases. \nNo one has permission to stay away from this camp due to finances. For scholarship\, contact C Lt. Col. Doug Dagarin at dougdagarin@gmail.com or 413-575-4560 before you register for the camp. \n 
URL:https://alertcadet.org/event/2021-eastern-ltc-waynesburg-pennsylvania/
LOCATION:Strath an De Farm\, 145 Stewart Run Rd\, Waynesburg\, PA\, 15370\, United States
CATEGORIES:LTC Camps
ATTACH;FMTTYPE=image/jpeg:https://alertcadet.org/wp-content/uploads/2019/12/IMG_2904.jpg
END:VEVENT
END:VCALENDAR