BEGIN:VCALENDAR
VERSION:2.0
PRODID:-//ALERT Cadet - ECPv6.15.20//NONSGML v1.0//EN
CALSCALE:GREGORIAN
METHOD:PUBLISH
X-WR-CALNAME:ALERT Cadet
X-ORIGINAL-URL:https://alertcadet.org
X-WR-CALDESC:Events for ALERT Cadet
REFRESH-INTERVAL;VALUE=DURATION:PT1H
X-Robots-Tag:noindex
X-PUBLISHED-TTL:PT1H
BEGIN:VTIMEZONE
TZID:America/Chicago
BEGIN:DAYLIGHT
TZOFFSETFROM:-0600
TZOFFSETTO:-0500
TZNAME:CDT
DTSTART:20190310T080000
END:DAYLIGHT
BEGIN:STANDARD
TZOFFSETFROM:-0500
TZOFFSETTO:-0600
TZNAME:CST
DTSTART:20191103T070000
END:STANDARD
BEGIN:DAYLIGHT
TZOFFSETFROM:-0600
TZOFFSETTO:-0500
TZNAME:CDT
DTSTART:20200308T080000
END:DAYLIGHT
BEGIN:STANDARD
TZOFFSETFROM:-0500
TZOFFSETTO:-0600
TZNAME:CST
DTSTART:20201101T070000
END:STANDARD
BEGIN:DAYLIGHT
TZOFFSETFROM:-0600
TZOFFSETTO:-0500
TZNAME:CDT
DTSTART:20210314T080000
END:DAYLIGHT
BEGIN:STANDARD
TZOFFSETFROM:-0500
TZOFFSETTO:-0600
TZNAME:CST
DTSTART:20211107T070000
END:STANDARD
BEGIN:DAYLIGHT
TZOFFSETFROM:-0600
TZOFFSETTO:-0500
TZNAME:CDT
DTSTART:20220313T080000
END:DAYLIGHT
BEGIN:STANDARD
TZOFFSETFROM:-0500
TZOFFSETTO:-0600
TZNAME:CST
DTSTART:20221106T070000
END:STANDARD
BEGIN:DAYLIGHT
TZOFFSETFROM:-0600
TZOFFSETTO:-0500
TZNAME:CDT
DTSTART:20230312T080000
END:DAYLIGHT
BEGIN:STANDARD
TZOFFSETFROM:-0500
TZOFFSETTO:-0600
TZNAME:CST
DTSTART:20231105T070000
END:STANDARD
BEGIN:DAYLIGHT
TZOFFSETFROM:-0600
TZOFFSETTO:-0500
TZNAME:CDT
DTSTART:20240310T080000
END:DAYLIGHT
BEGIN:STANDARD
TZOFFSETFROM:-0500
TZOFFSETTO:-0600
TZNAME:CST
DTSTART:20241103T070000
END:STANDARD
END:VTIMEZONE
BEGIN:VEVENT
DTSTART;TZID=America/Chicago:20230309T173000
DTEND;TZID=America/Chicago:20230312T120000
DTSTAMP:20260421T151710
CREATED:20221031T174835Z
LAST-MODIFIED:20230224T181033Z
UID:17996-1678383000-1678622400@alertcadet.org
SUMMARY:South Central Father/Son Service Camp
DESCRIPTION:The August 21-26 Eastern Region LTC Camp will be held at Strath an De’ Farm (Scottish Gaelic for “God’s Valley”) (strathande.com) belonging to Jim and Barbara Butler in Waynesburg\, PA\, with cadre reporting on Saturday the 19th.  Fathers and LTCs are expected to be set up and settled in by 1400 hours on Monday.  Camp […] \n 		\n			\n				This content is only available to members.
URL:https://alertcadet.org/event/south-central-father-son-service-camp-2/
LOCATION:Big Sandy\, Texas\, One Academy Blvd\, Big Sandy\, TX\, 75755\, United States
CATEGORIES:Father/Son Camps
ATTACH;FMTTYPE=image/jpeg:https://alertcadet.org/wp-content/uploads/2022/04/IMG_60012-1-scaled.jpg
END:VEVENT
BEGIN:VEVENT
DTSTART;TZID=America/Chicago:20221103T120000
DTEND;TZID=America/Chicago:20221106T120000
DTSTAMP:20260421T151710
CREATED:20211117T204934Z
LAST-MODIFIED:20221006T180323Z
UID:16170-1667476800-1667736000@alertcadet.org
SUMMARY:2022 South Central Father/Son Camp II
DESCRIPTION:The August 21-26 Eastern Region LTC Camp will be held at Strath an De’ Farm (Scottish Gaelic for “God’s Valley”) (strathande.com) belonging to Jim and Barbara Butler in Waynesburg\, PA\, with cadre reporting on Saturday the 19th.  Fathers and LTCs are expected to be set up and settled in by 1400 hours on Monday.  Camp […] \n 		\n			\n				This content is only available to members.
URL:https://alertcadet.org/event/south-central-father-son-camp-ii/
LOCATION:Big Sandy\, Texas\, One Academy Blvd\, Big Sandy\, TX\, 75755\, United States
CATEGORIES:Father/Son Camps
ATTACH;FMTTYPE=image/jpeg:https://alertcadet.org/wp-content/uploads/2021/11/hauling-pine-needles.jpg
END:VEVENT
BEGIN:VEVENT
DTSTART;TZID=America/Chicago:20220926T130000
DTEND;TZID=America/Chicago:20221001T130000
DTSTAMP:20260421T151710
CREATED:20211117T203149Z
LAST-MODIFIED:20220520T172626Z
UID:16158-1664197200-1664629200@alertcadet.org
SUMMARY:2022 South Central LTC Camp
DESCRIPTION:The August 21-26 Eastern Region LTC Camp will be held at Strath an De’ Farm (Scottish Gaelic for “God’s Valley”) (strathande.com) belonging to Jim and Barbara Butler in Waynesburg\, PA\, with cadre reporting on Saturday the 19th.  Fathers and LTCs are expected to be set up and settled in by 1400 hours on Monday.  Camp […] \n 		\n			\n				This content is only available to members.
URL:https://alertcadet.org/event/south-central-region-ltc-camp/
LOCATION:Big Sandy\, Texas\, One Academy Blvd\, Big Sandy\, TX\, 75755\, United States
CATEGORIES:LTC Camps
ATTACH;FMTTYPE=image/jpeg:https://alertcadet.org/wp-content/uploads/2021/11/River-Crossing-set-up.jpg
END:VEVENT
BEGIN:VEVENT
DTSTART;TZID=America/Chicago:20220905T130000
DTEND;TZID=America/Chicago:20220910T130000
DTSTAMP:20260421T151710
CREATED:20211117T202004Z
LAST-MODIFIED:20211119T200601Z
UID:16149-1662382800-1662814800@alertcadet.org
SUMMARY:2022 Eastern LTC Camp
DESCRIPTION:The August 21-26 Eastern Region LTC Camp will be held at Strath an De’ Farm (Scottish Gaelic for “God’s Valley”) (strathande.com) belonging to Jim and Barbara Butler in Waynesburg\, PA\, with cadre reporting on Saturday the 19th.  Fathers and LTCs are expected to be set up and settled in by 1400 hours on Monday.  Camp […] \n 		\n			\n				This content is only available to members.
URL:https://alertcadet.org/event/eastern-region-ltc-camp/
LOCATION:Fairwood Bible Institute\, Dublin\, NH\, United States
CATEGORIES:LTC Camps
ATTACH;FMTTYPE=image/jpeg:https://alertcadet.org/wp-content/uploads/2021/11/grid-search.jpg
END:VEVENT
BEGIN:VEVENT
DTSTART;TZID=America/Chicago:20220526T183000
DTEND;TZID=America/Chicago:20220529T130000
DTSTAMP:20260421T151710
CREATED:20211117T173456Z
LAST-MODIFIED:20211117T210809Z
UID:16138-1653589800-1653829200@alertcadet.org
SUMMARY:2022 Eastern Father/Son Service Camp Northern Area-New Hampshire
DESCRIPTION:The August 21-26 Eastern Region LTC Camp will be held at Strath an De’ Farm (Scottish Gaelic for “God’s Valley”) (strathande.com) belonging to Jim and Barbara Butler in Waynesburg\, PA\, with cadre reporting on Saturday the 19th.  Fathers and LTCs are expected to be set up and settled in by 1400 hours on Monday.  Camp […] \n 		\n			\n				This content is only available to members.
URL:https://alertcadet.org/event/eastern-father-son-service-camp-northern-area-new-hampshire/
LOCATION:Fairwood Bible Institute\, Dublin\, NH\, United States
CATEGORIES:Father/Son Camps
ATTACH;FMTTYPE=image/jpeg:https://alertcadet.org/wp-content/uploads/2021/11/IMG_4338.jpg
END:VEVENT
BEGIN:VEVENT
DTSTART;TZID=America/Chicago:20220421T183000
DTEND;TZID=America/Chicago:20220424T183000
DTSTAMP:20260421T151710
CREATED:20211117T174425Z
LAST-MODIFIED:20220316T193125Z
UID:16145-1650565800-1650825000@alertcadet.org
SUMMARY:2022 Eastern Father/Son Service Camp Southern Area - Pennsylvania
DESCRIPTION:The August 21-26 Eastern Region LTC Camp will be held at Strath an De’ Farm (Scottish Gaelic for “God’s Valley”) (strathande.com) belonging to Jim and Barbara Butler in Waynesburg\, PA\, with cadre reporting on Saturday the 19th.  Fathers and LTCs are expected to be set up and settled in by 1400 hours on Monday.  Camp […] \n 		\n			\n				This content is only available to members.
URL:https://alertcadet.org/event/eastern-father-son-service-camp-southern-area-pennsylvania/
LOCATION:Strath an De Farm\, 145 Stewart Run Rd\, Waynesburg\, PA\, 15370\, United States
CATEGORIES:Father/Son Camps
ATTACH;FMTTYPE=image/jpeg:https://alertcadet.org/wp-content/uploads/2021/11/leveling-road-scaled.jpg
END:VEVENT
BEGIN:VEVENT
DTSTART;TZID=America/Chicago:20220324T080000
DTEND;TZID=America/Chicago:20220326T170000
DTSTAMP:20260421T151710
CREATED:20211117T205958Z
LAST-MODIFIED:20220316T193246Z
UID:16177-1648108800-1648314000@alertcadet.org
SUMMARY:2022 South Central Father/Son Canoe Camp
DESCRIPTION:The August 21-26 Eastern Region LTC Camp will be held at Strath an De’ Farm (Scottish Gaelic for “God’s Valley”) (strathande.com) belonging to Jim and Barbara Butler in Waynesburg\, PA\, with cadre reporting on Saturday the 19th.  Fathers and LTCs are expected to be set up and settled in by 1400 hours on Monday.  Camp […] \n 		\n			\n				This content is only available to members.
URL:https://alertcadet.org/event/south-central-father-son-cano-camp/
LOCATION:Neches River
ATTACH;FMTTYPE=image/jpeg:https://alertcadet.org/wp-content/uploads/2021/11/canoeing-down-the-river.jpeg
END:VEVENT
BEGIN:VEVENT
DTSTART;TZID=America/Chicago:20220310T120000
DTEND;TZID=America/Chicago:20220313T120000
DTSTAMP:20260421T151710
CREATED:20211117T203717Z
LAST-MODIFIED:20211117T210852Z
UID:16165-1646913600-1647172800@alertcadet.org
SUMMARY:2022 South Central Father/Son Service Camp - Big Sandy
DESCRIPTION:The August 21-26 Eastern Region LTC Camp will be held at Strath an De’ Farm (Scottish Gaelic for “God’s Valley”) (strathande.com) belonging to Jim and Barbara Butler in Waynesburg\, PA\, with cadre reporting on Saturday the 19th.  Fathers and LTCs are expected to be set up and settled in by 1400 hours on Monday.  Camp […] \n 		\n			\n				This content is only available to members.
URL:https://alertcadet.org/event/south-central-father-son-service-camp-big-sandy/
LOCATION:Big Sandy\, Texas\, One Academy Blvd\, Big Sandy\, TX\, 75755\, United States
CATEGORIES:Father/Son Camps
ATTACH;FMTTYPE=image/jpeg:https://alertcadet.org/wp-content/uploads/2021/11/clearing-brush.jpg
END:VEVENT
BEGIN:VEVENT
DTSTART;TZID=America/Chicago:20211111T100000
DTEND;TZID=America/Chicago:20211114T120000
DTSTAMP:20260421T151710
CREATED:20210514T163304Z
LAST-MODIFIED:20211119T200645Z
UID:15874-1636624800-1636891200@alertcadet.org
SUMMARY:2022 South Central Father/Son Service Camp II
DESCRIPTION:The August 21-26 Eastern Region LTC Camp will be held at Strath an De’ Farm (Scottish Gaelic for “God’s Valley”) (strathande.com) belonging to Jim and Barbara Butler in Waynesburg\, PA\, with cadre reporting on Saturday the 19th.  Fathers and LTCs are expected to be set up and settled in by 1400 hours on Monday.  Camp […] \n 		\n			\n				This content is only available to members.
URL:https://alertcadet.org/event/south-central-father-son-service-camp/
LOCATION:Big Sandy\, Texas\, One Academy Blvd\, Big Sandy\, TX\, 75755\, United States
CATEGORIES:Father/Son Camps
ATTACH;FMTTYPE=image/jpeg:https://alertcadet.org/wp-content/uploads/2018/07/396D44BB-C722-4804-90D8-68783324104F.jpeg
END:VEVENT
BEGIN:VEVENT
DTSTART;TZID=America/Chicago:20210913T140000
DTEND;TZID=America/Chicago:20210918T120000
DTSTAMP:20260421T151710
CREATED:20210331T190856Z
LAST-MODIFIED:20220520T172923Z
UID:15675-1631541600-1631966400@alertcadet.org
SUMMARY:2022 South Central LTC Camp
DESCRIPTION:The August 21-26 Eastern Region LTC Camp will be held at Strath an De’ Farm (Scottish Gaelic for “God’s Valley”) (strathande.com) belonging to Jim and Barbara Butler in Waynesburg\, PA\, with cadre reporting on Saturday the 19th.  Fathers and LTCs are expected to be set up and settled in by 1400 hours on Monday.  Camp […] \n 		\n			\n				This content is only available to members.
URL:https://alertcadet.org/event/south-central-ltc-camp/
LOCATION:Big Sandy\, Texas\, One Academy Blvd\, Big Sandy\, TX\, 75755\, United States
CATEGORIES:LTC Camps
ATTACH;FMTTYPE=image/jpeg:https://alertcadet.org/wp-content/uploads/2016/02/Picture9.jpg
END:VEVENT
BEGIN:VEVENT
DTSTART;VALUE=DATE:20210823
DTEND;VALUE=DATE:20210829
DTSTAMP:20260421T151710
CREATED:20210120T195344Z
LAST-MODIFIED:20210726T150455Z
UID:15399-1629676800-1630195199@alertcadet.org
SUMMARY:2021 Eastern LTC - Waynesburg\, Pennsylvania
DESCRIPTION:The August 21-26 Eastern Region LTC Camp will be held at Strath an De’ Farm (Scottish Gaelic for “God’s Valley”) (strathande.com) belonging to Jim and Barbara Butler in Waynesburg\, PA\, with cadre reporting on Saturday the 19th.  Fathers and LTCs are expected to be set up and settled in by 1400 hours on Monday.  Camp […] \n 		\n			\n				This content is only available to members.
URL:https://alertcadet.org/event/2021-eastern-ltc-waynesburg-pennsylvania/
LOCATION:Strath an De Farm\, 145 Stewart Run Rd\, Waynesburg\, PA\, 15370\, United States
CATEGORIES:LTC Camps
ATTACH;FMTTYPE=image/jpeg:https://alertcadet.org/wp-content/uploads/2019/12/IMG_2904.jpg
END:VEVENT
BEGIN:VEVENT
DTSTART;TZID=America/Chicago:20210527T183000
DTEND;TZID=America/Chicago:20210530T120000
DTSTAMP:20260421T151710
CREATED:20210222T174231Z
LAST-MODIFIED:20210224T204102Z
UID:15487-1622140200-1622376000@alertcadet.org
SUMMARY:2021 Eastern Father/Son Service Camp
DESCRIPTION:The August 21-26 Eastern Region LTC Camp will be held at Strath an De’ Farm (Scottish Gaelic for “God’s Valley”) (strathande.com) belonging to Jim and Barbara Butler in Waynesburg\, PA\, with cadre reporting on Saturday the 19th.  Fathers and LTCs are expected to be set up and settled in by 1400 hours on Monday.  Camp […] \n 		\n			\n				This content is only available to members.
URL:https://alertcadet.org/event/2021-eastern-father-son-service-camp/
LOCATION:Fairwood Bible Institute\, Dublin\, NH\, United States
CATEGORIES:Father/Son Camps
ATTACH;FMTTYPE=image/jpeg:https://alertcadet.org/wp-content/uploads/2019/03/campfire.jpg
END:VEVENT
BEGIN:VEVENT
DTSTART;VALUE=DATE:20200521
DTEND;VALUE=DATE:20200525
DTSTAMP:20260421T151710
CREATED:20200120T220240Z
LAST-MODIFIED:20200318T005650Z
UID:14746-1590019200-1590364799@alertcadet.org
SUMMARY:2020 Eastern Father/Son Camp
DESCRIPTION:The August 21-26 Eastern Region LTC Camp will be held at Strath an De’ Farm (Scottish Gaelic for “God’s Valley”) (strathande.com) belonging to Jim and Barbara Butler in Waynesburg\, PA\, with cadre reporting on Saturday the 19th.  Fathers and LTCs are expected to be set up and settled in by 1400 hours on Monday.  Camp […] \n 		\n			\n				This content is only available to members.
URL:https://alertcadet.org/event/2020-eastern-father-son-camp/
LOCATION:Fairwood Bible Institute\, Dublin\, NH\, United States
CATEGORIES:Father/Son Camps
ORGANIZER;CN="CMaj. Doug Dagarin":MAILTO:dougdagarin@gmail.com
END:VEVENT
END:VCALENDAR