BEGIN:VCALENDAR
VERSION:2.0
PRODID:-//ALERT Cadet - ECPv6.15.20//NONSGML v1.0//EN
CALSCALE:GREGORIAN
METHOD:PUBLISH
X-WR-CALNAME:ALERT Cadet
X-ORIGINAL-URL:https://alertcadet.org
X-WR-CALDESC:Events for ALERT Cadet
REFRESH-INTERVAL;VALUE=DURATION:PT1H
X-Robots-Tag:noindex
X-PUBLISHED-TTL:PT1H
BEGIN:VTIMEZONE
TZID:America/Chicago
BEGIN:DAYLIGHT
TZOFFSETFROM:-0600
TZOFFSETTO:-0500
TZNAME:CDT
DTSTART:20230312T080000
END:DAYLIGHT
BEGIN:STANDARD
TZOFFSETFROM:-0500
TZOFFSETTO:-0600
TZNAME:CST
DTSTART:20231105T070000
END:STANDARD
BEGIN:DAYLIGHT
TZOFFSETFROM:-0600
TZOFFSETTO:-0500
TZNAME:CDT
DTSTART:20240310T080000
END:DAYLIGHT
BEGIN:STANDARD
TZOFFSETFROM:-0500
TZOFFSETTO:-0600
TZNAME:CST
DTSTART:20241103T070000
END:STANDARD
BEGIN:DAYLIGHT
TZOFFSETFROM:-0600
TZOFFSETTO:-0500
TZNAME:CDT
DTSTART:20250309T080000
END:DAYLIGHT
BEGIN:STANDARD
TZOFFSETFROM:-0500
TZOFFSETTO:-0600
TZNAME:CST
DTSTART:20251102T070000
END:STANDARD
BEGIN:DAYLIGHT
TZOFFSETFROM:-0600
TZOFFSETTO:-0500
TZNAME:CDT
DTSTART:20260308T080000
END:DAYLIGHT
BEGIN:STANDARD
TZOFFSETFROM:-0500
TZOFFSETTO:-0600
TZNAME:CST
DTSTART:20261101T070000
END:STANDARD
BEGIN:DAYLIGHT
TZOFFSETFROM:-0600
TZOFFSETTO:-0500
TZNAME:CDT
DTSTART:20270314T080000
END:DAYLIGHT
BEGIN:STANDARD
TZOFFSETFROM:-0500
TZOFFSETTO:-0600
TZNAME:CST
DTSTART:20271107T070000
END:STANDARD
END:VTIMEZONE
BEGIN:VEVENT
DTSTART;TZID=America/Chicago:20240803T080000
DTEND;TZID=America/Chicago:20240810T170000
DTSTAMP:20260422T173023
CREATED:20240101T175847Z
LAST-MODIFIED:20240110T012112Z
UID:18602-1722672000-1723309200@alertcadet.org
SUMMARY:2024 National Father/Son High Adventure Camp
DESCRIPTION:This Camp provides a remarkable and memorable opportunity for fathers and sons to backpack nearly 40 miles …Continue reading
URL:https://alertcadet.org/event/2024-national-father-son-high-adventure-camp/
LOCATION:Lake City\, CO\, Lake City\, CO\, United States
CATEGORIES:Father/Son Camps
ATTACH;FMTTYPE=image/jpeg:https://alertcadet.org/wp-content/uploads/2024/01/Lake-City.jpg
END:VEVENT
BEGIN:VEVENT
DTSTART;TZID=America/Chicago:20240812T140000
DTEND;TZID=America/Chicago:20240817T140000
DTSTAMP:20260422T173023
CREATED:20231215T154106Z
LAST-MODIFIED:20240110T012137Z
UID:18561-1723471200-1723903200@alertcadet.org
SUMMARY:Eastern Region LTC Camp
DESCRIPTION:The August 12-17 Eastern Region Leadership Training Corps Camp will be held at Fairwood Bible Institute (fairwoodbible.org) in Dublin\, New Hampshire on the North side of Mt. Monadnock… \nContinue Reading
URL:https://alertcadet.org/event/eastern-region-ltc-camp-2/
LOCATION:Fairwood Bible Institute\, Dublin\, NH\, United States
CATEGORIES:LTC Camps
ATTACH;FMTTYPE=image/jpeg:https://alertcadet.org/wp-content/uploads/2022/04/20210827_112353-scaled.jpg
END:VEVENT
BEGIN:VEVENT
DTSTART;TZID=America/Chicago:20241021T143000
DTEND;TZID=America/Chicago:20241026T143000
DTSTAMP:20260422T173023
CREATED:20240101T180936Z
LAST-MODIFIED:20240110T013306Z
UID:18610-1729521000-1729953000@alertcadet.org
SUMMARY:2024 South Central Leadership Training Corps Camp
DESCRIPTION:The South Central LTC Camp teaches the skills for earning the Crisis Response Training Award this year…Continue reading
URL:https://alertcadet.org/event/2024-south-central-leadership-training-corps-camp/
LOCATION:Big Sandy\, Texas\, One Academy Blvd\, Big Sandy\, TX\, 75755\, United States
CATEGORIES:LTC Camps
ATTACH;FMTTYPE=image/jpeg:https://alertcadet.org/wp-content/uploads/2024/01/camp-picture.jpg
END:VEVENT
BEGIN:VEVENT
DTSTART;TZID=America/Chicago:20250320T173000
DTEND;TZID=America/Chicago:20250323T120000
DTSTAMP:20260422T173023
CREATED:20241212T200155Z
LAST-MODIFIED:20241217T175934Z
UID:19073-1742491800-1742731200@alertcadet.org
SUMMARY:2025 SOUTH CENTRAL F/S SERVICE CAMP
DESCRIPTION:2025 South Central F/S Service Camp posting
URL:https://alertcadet.org/event/2025-south-central-f-s-service-camp/
LOCATION:Big Sandy\, Texas\, One Academy Blvd\, Big Sandy\, TX\, 75755\, United States
CATEGORIES:Father/Son Camps
ATTACH;FMTTYPE=image/jpeg:https://alertcadet.org/wp-content/uploads/2024/12/clearing-brush.jpg
END:VEVENT
BEGIN:VEVENT
DTSTART;TZID=America/Chicago:20250424T170000
DTEND;TZID=America/Chicago:20250427T120000
DTSTAMP:20260422T173023
CREATED:20241129T213532Z
LAST-MODIFIED:20241217T175519Z
UID:19061-1745514000-1745755200@alertcadet.org
SUMMARY:2025 EASTERN FATHER/SON SERVICE CAMP SOUTH
DESCRIPTION:2025 Eastern Region Father and Son Service Camp — Southern Area — Posting
URL:https://alertcadet.org/event/2025-eastern-father-son-service-camp-south/
LOCATION:Strath an De Farm\, 145 Stewart Run Rd\, Waynesburg\, PA\, 15370\, United States
CATEGORIES:Father/Son Camps
ATTACH;FMTTYPE=image/jpeg:https://alertcadet.org/wp-content/uploads/2024/11/rapelling-scaled.jpg
END:VEVENT
BEGIN:VEVENT
DTSTART;TZID=America/Chicago:20250522T160000
DTEND;TZID=America/Chicago:20250525T120000
DTSTAMP:20260422T173023
CREATED:20241129T212159Z
LAST-MODIFIED:20241212T200307Z
UID:19056-1747929600-1748174400@alertcadet.org
SUMMARY:2025 EASTERN FATHER/SON SERVICE CAMP NORTH
DESCRIPTION:2025 Eastern Region Father and Son Service Camp — Northern Area — Posting
URL:https://alertcadet.org/event/2025-eastern-father-son-service-camp-north/
LOCATION:Fairwood Bible Institute\, Dublin\, NH\, United States
CATEGORIES:Father/Son Camps
ATTACH;FMTTYPE=image/jpeg:https://alertcadet.org/wp-content/uploads/2022/10/20220908_184707-scaled.jpg
END:VEVENT
BEGIN:VEVENT
DTSTART;TZID=America/Chicago:20250711T080000
DTEND;TZID=America/Chicago:20250718T170000
DTSTAMP:20260422T173023
CREATED:20250120T222445Z
LAST-MODIFIED:20250218T171033Z
UID:19150-1752220800-1752858000@alertcadet.org
SUMMARY:2025 Boundary Waters High Adventure Camp
DESCRIPTION:Boundary Waters Camp posting July 2025
URL:https://alertcadet.org/event/2025-boundary-waters-father-son-camp/
LOCATION:CO
ATTACH;FMTTYPE=image/jpeg:https://alertcadet.org/wp-content/uploads/2025/01/boundry-waters.jpg
END:VEVENT
BEGIN:VEVENT
DTSTART;TZID=America/Chicago:20250811T140000
DTEND;TZID=America/Chicago:20250816T120000
DTSTAMP:20260422T173023
CREATED:20250106T193520Z
LAST-MODIFIED:20250714T154531Z
UID:19125-1754920800-1755345600@alertcadet.org
SUMMARY:2025 Eastern LTC Camp
DESCRIPTION:2025 Eastern LTC Camp Posting
URL:https://alertcadet.org/event/2025-eastern-ltc-camp/
LOCATION:Strath an De Farm\, 145 Stewart Run Rd\, Waynesburg\, PA\, 15370\, United States
CATEGORIES:LTC Camps
ATTACH;FMTTYPE=image/jpeg:https://alertcadet.org/wp-content/uploads/2025/01/20240813_071322.jpg
END:VEVENT
BEGIN:VEVENT
DTSTART;TZID=America/Chicago:20251027T140000
DTEND;TZID=America/Chicago:20251101T120000
DTSTAMP:20260422T173023
CREATED:20250120T221346Z
LAST-MODIFIED:20250120T221346Z
UID:19144-1761573600-1761998400@alertcadet.org
SUMMARY:South Central LTC Camp
DESCRIPTION:2025 South Central LTC Camp posting
URL:https://alertcadet.org/event/south-central-ltc-camp-3/
LOCATION:Big Sandy\, Texas\, One Academy Blvd\, Big Sandy\, TX\, 75755\, United States
CATEGORIES:LTC Camps
ATTACH;FMTTYPE=image/jpeg:https://alertcadet.org/wp-content/uploads/2025/01/website-cover-picture-rotated.jpg
END:VEVENT
BEGIN:VEVENT
DTSTART;TZID=America/Chicago:20260319T173000
DTEND;TZID=America/Chicago:20260322T120000
DTSTAMP:20260422T173023
CREATED:20251217T173249Z
LAST-MODIFIED:20251219T194147Z
UID:19509-1773941400-1774180800@alertcadet.org
SUMMARY:2026 South Central Father/Son Service Camp
DESCRIPTION:Camp posting
URL:https://alertcadet.org/event/south-central-father-son-service-camp-3/
LOCATION:Big Sandy\, Texas\, One Academy Blvd\, Big Sandy\, TX\, 75755\, United States
CATEGORIES:Father/Son Camps,LTC Camps
ATTACH;FMTTYPE=image/jpeg:https://alertcadet.org/wp-content/uploads/2025/12/sitting-around-campfire-scaled.jpg
END:VEVENT
BEGIN:VEVENT
DTSTART;TZID=America/Chicago:20260423T160000
DTEND;TZID=America/Chicago:20260426T120000
DTSTAMP:20260422T173023
CREATED:20251201T162732Z
LAST-MODIFIED:20251201T163047Z
UID:19476-1776960000-1777204800@alertcadet.org
SUMMARY:2026 Eastern Father/Son Camp South
DESCRIPTION:Posting
URL:https://alertcadet.org/event/2026-eastern-father-son-camp-south/
LOCATION:Strath an De Farm\, 145 Stewart Run Rd\, Waynesburg\, PA\, 15370\, United States
CATEGORIES:Father/Son Camps
ATTACH;FMTTYPE=image/jpeg:https://alertcadet.org/wp-content/uploads/2025/12/starting-fire.jpg
END:VEVENT
BEGIN:VEVENT
DTSTART;TZID=America/Chicago:20260521T160000
DTEND;TZID=America/Chicago:20260524T120000
DTSTAMP:20260422T173023
CREATED:20251201T163928Z
LAST-MODIFIED:20251201T165438Z
UID:19482-1779379200-1779624000@alertcadet.org
SUMMARY:2026 Eastern Father/Son Camp North
DESCRIPTION:Posting
URL:https://alertcadet.org/event/2026-eastern-father-son/
LOCATION:Fairwood Bible Institute\, Dublin\, NH\, United States
CATEGORIES:Father/Son Camps
ATTACH;FMTTYPE=image/jpeg:https://alertcadet.org/wp-content/uploads/2023/12/Eastern-F-S-South-blacksmithing.jpg
END:VEVENT
BEGIN:VEVENT
DTSTART;TZID=America/Chicago:20260725T080000
DTEND;TZID=America/Chicago:20260801T170000
DTSTAMP:20260422T173023
CREATED:20260223T204216Z
LAST-MODIFIED:20260313T171856Z
UID:19665-1784966400-1785603600@alertcadet.org
SUMMARY:High Adventure Camp
DESCRIPTION:Camp posting National Father-Son High Adventure Camp July 2026 \n 
URL:https://alertcadet.org/event/high-adventure-camp/
LOCATION:Lake City\, CO\, Lake City\, CO\, United States
CATEGORIES:Father/Son Camps
ATTACH;FMTTYPE=image/jpeg:https://alertcadet.org/wp-content/uploads/2026/02/IMG_1168reduced-rotated.jpeg
END:VEVENT
BEGIN:VEVENT
DTSTART;TZID=America/Chicago:20260824T140000
DTEND;TZID=America/Chicago:20260829T120000
DTSTAMP:20260422T173023
CREATED:20260210T195355Z
LAST-MODIFIED:20260210T195442Z
UID:19561-1787580000-1788004800@alertcadet.org
SUMMARY:Eastern LTC Camp
DESCRIPTION:Posting
URL:https://alertcadet.org/event/eastern-ltc-camp-2/
LOCATION:Fairwood Bible Institute\, Dublin\, NH\, United States
ATTACH;FMTTYPE=image/jpeg:https://alertcadet.org/wp-content/uploads/2026/02/web-picture.jpeg
END:VEVENT
BEGIN:VEVENT
DTSTART;TZID=America/Chicago:20261026T140000
DTEND;TZID=America/Chicago:20261031T120000
DTSTAMP:20260422T173023
CREATED:20260223T204030Z
LAST-MODIFIED:20260308T202900Z
UID:19663-1793023200-1793448000@alertcadet.org
SUMMARY:South Central LTC Camp
DESCRIPTION:2026 SC LTC Camp Posting \n 
URL:https://alertcadet.org/event/south-central-ltc-camp-4/
LOCATION:Big Sandy\, Texas\, One Academy Blvd\, Big Sandy\, TX\, 75755\, United States
CATEGORIES:LTC Camps
ATTACH;FMTTYPE=image/png:https://alertcadet.org/wp-content/uploads/2026/02/hiking.png
END:VEVENT
END:VCALENDAR